BEGIN:VCALENDAR
VERSION:2.0
PRODID:-//InsuranceFraud.org - ECPv6.15.20//NONSGML v1.0//EN
CALSCALE:GREGORIAN
METHOD:PUBLISH
X-WR-CALNAME:InsuranceFraud.org
X-ORIGINAL-URL:https://insurancefraud.org
X-WR-CALDESC:Events for InsuranceFraud.org
REFRESH-INTERVAL;VALUE=DURATION:PT1H
X-Robots-Tag:noindex
X-PUBLISHED-TTL:PT1H
BEGIN:VTIMEZONE
TZID:UTC
BEGIN:STANDARD
TZOFFSETFROM:+0000
TZOFFSETTO:+0000
TZNAME:UTC
DTSTART:20250101T000000
END:STANDARD
END:VTIMEZONE
BEGIN:VEVENT
DTSTART;VALUE=DATE:20260422
DTEND;VALUE=DATE:20260425
DTSTAMP:20260425T101049
CREATED:20251027T165238Z
LAST-MODIFIED:20251027T171407Z
UID:10000029-1776816000-1777075199@insurancefraud.org
SUMMARY:2026 Annual Anti-Fraud Conference
DESCRIPTION:Keynote Speaker: Frank Abagnale \nBestselling author & subject of “Catch Me If You Can” Renowned cybercrime and fraud prevention expert \nAll the Details Are On the Conference Site \nA few things you can find….. \n  \n\nRegistration to attend\nThe Reasons Why Anti Fraud Professionals Should Attend!!\nThe Schedule of Course (Coming Soon!)\nInformation about our Speakers (Coming Soon!)\nBecome a Sponsor or Exhibitor\nAnd more details to come!\n\nWe are actively working on our Training Events and Speaker* \nKeep an eye on the Conference Site for all the updates!! \nConference Schedule \nLooking forward to seeing you there!!! \nAny questions? Please email the AFA Executive Secretary.
URL:https://insurancefraud.org/event/2026-annual-anti-fraud-conference/
LOCATION:Hyatt Regency Monterey\, 1 Old Golf Course Rd\, Monterey\, CA\, 93940\, United States
ATTACH;FMTTYPE=image/png:https://insurancefraud.org/wp-content/uploads/AFA-3.png
END:VEVENT
END:VCALENDAR