BEGIN:VCALENDAR
VERSION:2.0
PRODID:-//InsuranceFraud.org - ECPv6.15.20//NONSGML v1.0//EN
CALSCALE:GREGORIAN
METHOD:PUBLISH
X-ORIGINAL-URL:https://insurancefraud.org
X-WR-CALDESC:Events for InsuranceFraud.org
REFRESH-INTERVAL;VALUE=DURATION:PT1H
X-Robots-Tag:noindex
X-PUBLISHED-TTL:PT1H
BEGIN:VTIMEZONE
TZID:America/New_York
BEGIN:DAYLIGHT
TZOFFSETFROM:-0500
TZOFFSETTO:-0400
TZNAME:EDT
DTSTART:20250309T070000
END:DAYLIGHT
BEGIN:STANDARD
TZOFFSETFROM:-0400
TZOFFSETTO:-0500
TZNAME:EST
DTSTART:20251102T060000
END:STANDARD
BEGIN:DAYLIGHT
TZOFFSETFROM:-0500
TZOFFSETTO:-0400
TZNAME:EDT
DTSTART:20260308T070000
END:DAYLIGHT
BEGIN:STANDARD
TZOFFSETFROM:-0400
TZOFFSETTO:-0500
TZNAME:EST
DTSTART:20261101T060000
END:STANDARD
BEGIN:DAYLIGHT
TZOFFSETFROM:-0500
TZOFFSETTO:-0400
TZNAME:EDT
DTSTART:20270314T070000
END:DAYLIGHT
BEGIN:STANDARD
TZOFFSETFROM:-0400
TZOFFSETTO:-0500
TZNAME:EST
DTSTART:20271107T060000
END:STANDARD
END:VTIMEZONE
BEGIN:VEVENT
DTSTART;TZID=America/New_York:20260310T120000
DTEND;TZID=America/New_York:20260310T140000
DTSTAMP:20260419T165214
CREATED:20260213T195629Z
LAST-MODIFIED:20260213T195629Z
UID:10000059-1773144000-1773151200@insurancefraud.org
SUMMARY:AFA Q1 2026 Training Webinar - Explosive Verdicts\, Smarter Choices
DESCRIPTION:“A Dual Look at Litigation Risk & Ethical Leadership” Topic: Step into a session that explores the intersection of high‑stakes litigation and ethical leadership. Explosive Verdicts\, Smarter Choices will first dissect the rise of nuclear verdicts\, helping you understand what drives these extraordinary outcomes and how to mitigate risk. The second half shifts focus inward\, offering practical tools for ethical decision‑making that strengthen professional judgment and personal growth. This dual‑focused course is designed for those committed to protecting their organizations while leading with integrity. Presenter: Bob Horst\, Managing Partner; Horst Krekstein Runyon Bob Horst is the Managing Partner of HKR\, where he leads a national team of litigators\, insurance coverage attorneys\, and one of the Philadelphia region’s premier transactional groups—recognized as a Tier 1 Insurance Law practice by Best Lawyers® “Best Law Firms.” Under his leadership\, HKR has grown into a high‑impact litigation platform grounded in exceptional client service and professional development. A seasoned litigator\, mediator\, and private arbitrator\, Bob handles complex commercial disputes\, insurance matters\, and subrogation cases. He has tried numerous jury cases to verdict over his 34‑year career and frequently serves as a Judge Pro Tem in the Philadelphia Court of Common Pleas. Bob has been recognized among America’s Top 100 Civil Defense Litigators® and has earned distinctions as a Best Lawyer® (2019–present) and Super Lawyer® (19 of the last 20 years). His insights have been featured in Claims Journal\, The New York Times\, PropertyCasualty360\, Inc.\, Law360\, National Underwriter\, The Legal Intelligencer\, Student Lawyer\, and The Jackson Clarion Ledger.
URL:https://insurancefraud.org/event/afa-q1-2026-training-webinar-explosive-verdicts-smarter-choices/
ATTACH;FMTTYPE=image/png:https://insurancefraud.org/wp-content/uploads/AFA-4.png
END:VEVENT
END:VCALENDAR